BEGIN:VCALENDAR
VERSION:2.0
PRODID:-//Casa de Madrid en Barcelona - ECPv6.15.20//NONSGML v1.0//EN
CALSCALE:GREGORIAN
METHOD:PUBLISH
X-WR-CALNAME:Casa de Madrid en Barcelona
X-ORIGINAL-URL:https://casademadridenbarcelona.com
X-WR-CALDESC:Eventos para Casa de Madrid en Barcelona
REFRESH-INTERVAL;VALUE=DURATION:PT1H
X-Robots-Tag:noindex
X-PUBLISHED-TTL:PT1H
BEGIN:VTIMEZONE
TZID:Europe/Madrid
BEGIN:DAYLIGHT
TZOFFSETFROM:+0100
TZOFFSETTO:+0200
TZNAME:CEST
DTSTART:20250330T010000
END:DAYLIGHT
BEGIN:STANDARD
TZOFFSETFROM:+0200
TZOFFSETTO:+0100
TZNAME:CET
DTSTART:20251026T010000
END:STANDARD
BEGIN:DAYLIGHT
TZOFFSETFROM:+0100
TZOFFSETTO:+0200
TZNAME:CEST
DTSTART:20260329T010000
END:DAYLIGHT
BEGIN:STANDARD
TZOFFSETFROM:+0200
TZOFFSETTO:+0100
TZNAME:CET
DTSTART:20261025T010000
END:STANDARD
BEGIN:DAYLIGHT
TZOFFSETFROM:+0100
TZOFFSETTO:+0200
TZNAME:CEST
DTSTART:20270328T010000
END:DAYLIGHT
BEGIN:STANDARD
TZOFFSETFROM:+0200
TZOFFSETTO:+0100
TZNAME:CET
DTSTART:20271031T010000
END:STANDARD
END:VTIMEZONE
BEGIN:VEVENT
DTSTART;TZID=Europe/Madrid:20260423T143000
DTEND;TZID=Europe/Madrid:20260423T190000
DTSTAMP:20260419T161111
CREATED:20250301T103522Z
LAST-MODIFIED:20260308T235655Z
UID:5647-1776954600-1776970800@casademadridenbarcelona.com
SUMMARY:Sant Jordi 2026
DESCRIPTION:14\,30 hs:\nCocido Literario \n16:30 hs:\nPresentación 2 libro \n\n«El confesionario Vacío»\nAutor: Víctor Manuel Meroño\n«El metro de Madrid durante la guerra civil»\nAutor: Luis M Gonzalez
URL:https://casademadridenbarcelona.com/evento/sant-jordi-2025/
LOCATION:Asociacion Casa de Madrid en Barcelona\, Ausias March 37\, Barcelona\, Barcelona\, 08010\, España
CATEGORIES:Actividades Mensuales
ATTACH;FMTTYPE=image/jpeg:https://casademadridenbarcelona.com/wp-content/uploads/2024/03/Diada_de_Sant_Jordi.jpg
ORGANIZER;CN="Asociacion Casa de Madrid de Barcelona":MAILTO:casademadridbarcelona@gmail.com
END:VEVENT
END:VCALENDAR