BEGIN:VCALENDAR
VERSION:2.0
PRODID:-//Casa de Madrid en Barcelona - ECPv6.15.20//NONSGML v1.0//EN
CALSCALE:GREGORIAN
METHOD:PUBLISH
X-WR-CALNAME:Casa de Madrid en Barcelona
X-ORIGINAL-URL:https://casademadridenbarcelona.com
X-WR-CALDESC:Eventos para Casa de Madrid en Barcelona
REFRESH-INTERVAL;VALUE=DURATION:PT1H
X-Robots-Tag:noindex
X-PUBLISHED-TTL:PT1H
BEGIN:VTIMEZONE
TZID:Europe/Madrid
BEGIN:DAYLIGHT
TZOFFSETFROM:+0100
TZOFFSETTO:+0200
TZNAME:CEST
DTSTART:20250330T010000
END:DAYLIGHT
BEGIN:STANDARD
TZOFFSETFROM:+0200
TZOFFSETTO:+0100
TZNAME:CET
DTSTART:20251026T010000
END:STANDARD
BEGIN:DAYLIGHT
TZOFFSETFROM:+0100
TZOFFSETTO:+0200
TZNAME:CEST
DTSTART:20260329T010000
END:DAYLIGHT
BEGIN:STANDARD
TZOFFSETFROM:+0200
TZOFFSETTO:+0100
TZNAME:CET
DTSTART:20261025T010000
END:STANDARD
BEGIN:DAYLIGHT
TZOFFSETFROM:+0100
TZOFFSETTO:+0200
TZNAME:CEST
DTSTART:20270328T010000
END:DAYLIGHT
BEGIN:STANDARD
TZOFFSETFROM:+0200
TZOFFSETTO:+0100
TZNAME:CET
DTSTART:20271031T010000
END:STANDARD
END:VTIMEZONE
BEGIN:VEVENT
DTSTART;VALUE=DATE:20260516
DTEND;VALUE=DATE:20260517
DTSTAMP:20260419T191438
CREATED:20240501T112817Z
LAST-MODIFIED:20260411T233652Z
UID:5391-1778889600-1778975999@casademadridenbarcelona.com
SUMMARY:Celebracion San Isidro 2026
DESCRIPTION:Celebración de Nuestro Patrón de San Isidro \n\nMisa 12:00hs: Convento de los Dominicos\, C/ Ausias Marc 45\nActuación «Santa Gadea» del Hogar Centro Castellano Leones\nLimonada y Callos: En nuestra Corrala
URL:https://casademadridenbarcelona.com/evento/san-isidro-2026/
LOCATION:Asociacion Casa de Madrid en Barcelona\, Ausias March 37\, Barcelona\, Barcelona\, 08010\, España
ATTACH;FMTTYPE=image/jpeg:https://casademadridenbarcelona.com/wp-content/uploads/2024/05/el_gato_de_san_isidro.jpg
ORGANIZER;CN="Asociacion Casa de Madrid de Barcelona":MAILTO:casademadridbarcelona@gmail.com
END:VEVENT
END:VCALENDAR